BEGIN:VCALENDAR
VERSION:2.0
PRODID:-//Tradoodle - ECPv4.5.12.2//NONSGML v1.0//EN
CALSCALE:GREGORIAN
METHOD:PUBLISH
X-WR-CALNAME:Tradoodle
X-ORIGINAL-URL:http://tradoodle.ie
X-WR-CALDESC:Events for Tradoodle
BEGIN:VEVENT
DTSTART;TZID=UTC+0:20171024T100000
DTEND;TZID=UTC+0:20171024T110000
DTSTAMP:20171106T055822
CREATED:20170727T213347Z
LAST-MODIFIED:20170727T213947Z
UID:336-1508839200-1508842800@tradoodle.ie
SUMMARY:The Far Field - Garage Theatre (10am show)
DESCRIPTION:Ceol Connected’s The Far Field is an irresistibly joyful musical tale for young audiences infused with Irish traditional music\, puppetry\, and folklore. \nOne Summer day in the little hills of Co. Monaghan\, Lonán the farmer discovers a magical whistle hidden in a hare’s nest. Suspecting that it belongs to the fairy folk who live at the edge of his farm\, Lonán decides that the whistle should be returned to its rightful owners. Join Lonán on his quest filled with magical traditional music\, puppetry\, and storytelling to the enchanted ‘Far Field’. \nDescribed as spellbinding\, magical\, and a gentle and joyful performance for children\, The Far Field comes to Tradoodle Festival hot on the heels of its 8-venue nationwide tour of Ireland\, supported by The Arts Council. \nAlongside Samantha Harvey (keyboard) and Emma Fisher (puppeteer)\, The Far Field performers include some of Monaghan’s finest traditional musicians: Thomas Johnston (whistles/vocals) and Seán McElwain (guitar/fiddle). \nSuitable for children aged 3-6\nDuration: Approx. 45 minutes \n\n\n	Related\n
URL:http://tradoodle.ie/event/the-far-field-garage-theatre-10am-show/
LOCATION:Monaghan Education Campus\, Old Armagh Road\,\, Monaghan\, Ireland
ATTACH;FMTTYPE=image/jpeg:http://tradoodle.ie/wp-content/uploads/2017/07/TheFarFieldImageA3_No_Logos-1.jpg
END:VEVENT
END:VCALENDAR