BEGIN:VCALENDAR
VERSION:2.0
PRODID:-//Tradoodle - ECPv4.5.12.2//NONSGML v1.0//EN
CALSCALE:GREGORIAN
METHOD:PUBLISH
X-WR-CALNAME:Tradoodle
X-ORIGINAL-URL:http://tradoodle.ie
X-WR-CALDESC:Events for Tradoodle
BEGIN:VEVENT
DTSTART;TZID=UTC+0:20171025T100000
DTEND;TZID=UTC+0:20171025T110000
DTSTAMP:20171106T055744
CREATED:20170727T205619Z
LAST-MODIFIED:20170727T205950Z
UID:323-1508925600-1508929200@tradoodle.ie
SUMMARY:Moxie - Iontas Theatre & Gallery (10am show)
DESCRIPTION:Hold on to your seats\, it’s MOXIE! MOXIE are an innovative\, highly charged\, and irresistible young band at the forefront of new traditional music. \nMOXIE will bring young audiences on an unforgettable musical journey. Fast becoming a festival favourite internationally\, MOXIE have built a reputation for their high energy live performances\, brimming with youthful vitality. With traditional music that flows from banjos\, guitar\, accordion\, keyboard and percussion\, their sound is inspired by Ireland’s untamed West Coast. Their music fuses musical influences from folk\, rock\, jazz and new age bluegrass\, giving the band a truly distinctive sound. \nMOXIE’s performance as part of Tradoodle Festival follows an epic 3-week sold out run of performances with Prodijig\, The Revolution at The Cork Opera House which received rave reviews. In August 2014 they released their debut album Planted to critical acclaim. \nMOXIE are: Cillian Doheny (tenor banjo/guitar)\, Jos Kelly (button accordion/keyboard)\, Darren Roche (button accordion)\, Ted Kelly (tenor banjo) and Paddy Hazelton (percussion). \n\n\n	Related\n
URL:http://tradoodle.ie/event/moxie-iontas-theatre-gallery-10am-show/
LOCATION:Castleblaney\, Monaghan\, Ireland
ATTACH;FMTTYPE=image/jpeg:http://tradoodle.ie/wp-content/uploads/2017/07/MOXIEOption1.jpg
END:VEVENT
END:VCALENDAR