BEGIN:VCALENDAR
VERSION:2.0
PRODID:-//Tradoodle - ECPv4.5.12.2//NONSGML v1.0//EN
CALSCALE:GREGORIAN
METHOD:PUBLISH
X-WR-CALNAME:Tradoodle
X-ORIGINAL-URL:http://tradoodle.ie
X-WR-CALDESC:Events for Tradoodle
BEGIN:VEVENT
DTSTART;TZID=UTC+0:20171003T080000
DTEND;TZID=UTC+0:20171019T170000
DTSTAMP:20171106T055642
CREATED:20170726T220150Z
LAST-MODIFIED:20170726T220252Z
UID:299-1507017600-1508432400@tradoodle.ie
SUMMARY:Finn Harper Exhibition
DESCRIPTION:Finn Harper’s traditional music-inspired artwork has become a hugely popular addition to many arts and music festivals in Ireland and internationally. His exceptional portrait work brings to life a wide range of renowned past and present-day Irish musicians – from Andy Irvine\, to Christy Moore\, to Micho Russell\, to Matt Molloy\, among others. \nOriginally from County Wexford\, Finn is himself an accomplished musician. In 2015 during a short music residency in Florida\, USA\, Finn tried his hand at drawing portraits of Irish musicians that inspired and influenced him over the years\, and he hasn’t looked back since! \nFinn has garnered an enthusiastic following with his individual style of realistic high contrast pencil artwork. In 2017 alone\, Finn has exhibited at Lorient Interceltique Festival in Brittany\, Milwaukee Irish Festival in America\, Doolin Folk Festival\, Fleadh Cheoil in Ennis\, and the Padraig O’Keefe Festival in Castleisland. Between 3rd October and 19th November you have an opportunity to see Finn’s work as part of Tradoodle Traditional Arts Festival for Young Audiences. \n\n\n	Related\n
URL:http://tradoodle.ie/event/finn-harper-exhibition/
LOCATION:Monaghan Education Campus\, Old Armagh Road\,\, Monaghan\, Ireland
ATTACH;FMTTYPE=image/jpeg:http://tradoodle.ie/wp-content/uploads/2017/07/FinnHarperImage.jpg
END:VEVENT
END:VCALENDAR